{
 "currentVersion": 10.91,
 "serviceDescription": "Imagery/UB_Slope",
 "name": "Imagery/UB_Slope",
 "description": "",
 "extent": {
  "xmin": 2822999.9999999995,
  "ymin": 1555527.898,
  "xmax": 2910922.9999999995,
  "ymax": 1634999.898,
  "spatialReference": {
   "wkt": "PROJCS[\"NAD83(2011) / Colorado Central (ftUS)\",GEOGCS[\"NAD83(2011)\",DATUM[\"NAD83 (National Spatial Reference System 2011)\",SPHEROID[\"GRS 1980\",6378137.0,298.257222101]],PRIMEM[\"Greenwich\",0.0],UNIT[\"degree\",0.0174532925199433]],PROJECTION[\"Lambert_Conformal_Conic_2SP\"],PARAMETER[\"false_easting\",3000000.0],PARAMETER[\"false_northing\",1000000.0],PARAMETER[\"central_meridian\",-105.5],PARAMETER[\"standard_parallel_1\",38.45],PARAMETER[\"standard_parallel_2\",39.75],PARAMETER[\"latitude_of_origin\",37.833333333333],UNIT[\"US survey foot\",0.3048006096012192]],VERTCS[\"NAVD88 height - US Geoid Model of 2012 B\",VDATUM[\"North American Vertical Datum 1988\"],PARAMETER[\"Vertical_Shift\",0.0],PARAMETER[\"Direction\",1.0],UNIT[\"US survey foot\",0.3048006096012192]]"
  }
 },
 "initialExtent": {
  "xmin": 2822999.9999999995,
  "ymin": 1555527.898,
  "xmax": 2910922.9999999995,
  "ymax": 1634999.898,
  "spatialReference": {
   "wkt": "PROJCS[\"NAD83(2011) / Colorado Central (ftUS)\",GEOGCS[\"NAD83(2011)\",DATUM[\"NAD83 (National Spatial Reference System 2011)\",SPHEROID[\"GRS 1980\",6378137.0,298.257222101]],PRIMEM[\"Greenwich\",0.0],UNIT[\"degree\",0.0174532925199433]],PROJECTION[\"Lambert_Conformal_Conic_2SP\"],PARAMETER[\"false_easting\",3000000.0],PARAMETER[\"false_northing\",1000000.0],PARAMETER[\"central_meridian\",-105.5],PARAMETER[\"standard_parallel_1\",38.45],PARAMETER[\"standard_parallel_2\",39.75],PARAMETER[\"latitude_of_origin\",37.833333333333],UNIT[\"US survey foot\",0.3048006096012192]],VERTCS[\"NAVD88 height - US Geoid Model of 2012 B\",VDATUM[\"North American Vertical Datum 1988\"],PARAMETER[\"Vertical_Shift\",0.0],PARAMETER[\"Direction\",1.0],UNIT[\"US survey foot\",0.3048006096012192]]"
  }
 },
 "fullExtent": {
  "xmin": 2822999.9999999995,
  "ymin": 1555527.898,
  "xmax": 2910922.9999999995,
  "ymax": 1634999.898,
  "spatialReference": {
   "wkt": "PROJCS[\"NAD83(2011) / Colorado Central (ftUS)\",GEOGCS[\"NAD83(2011)\",DATUM[\"NAD83 (National Spatial Reference System 2011)\",SPHEROID[\"GRS 1980\",6378137.0,298.257222101]],PRIMEM[\"Greenwich\",0.0],UNIT[\"degree\",0.0174532925199433]],PROJECTION[\"Lambert_Conformal_Conic_2SP\"],PARAMETER[\"false_easting\",3000000.0],PARAMETER[\"false_northing\",1000000.0],PARAMETER[\"central_meridian\",-105.5],PARAMETER[\"standard_parallel_1\",38.45],PARAMETER[\"standard_parallel_2\",39.75],PARAMETER[\"latitude_of_origin\",37.833333333333],UNIT[\"US survey foot\",0.3048006096012192]],VERTCS[\"NAVD88 height - US Geoid Model of 2012 B\",VDATUM[\"North American Vertical Datum 1988\"],PARAMETER[\"Vertical_Shift\",0.0],PARAMETER[\"Direction\",1.0],UNIT[\"US survey foot\",0.3048006096012192]]"
  }
 },
 "heightModelInfo": {
  "heightModel": "gravity_related_height",
  "vertCRS": "NAVD88 height - US Geoid Model of 2012 B",
  "heightUnit": "us-foot"
 },
 "hasMultidimensions": false,
 "pixelSizeX": 1,
 "pixelSizeY": 1,
 "datasetFormat": "SDR",
 "uncompressedSize": 27949666624,
 "blockWidth": 128,
 "blockHeight": 128,
 "compressionType": "NONE",
 "bandNames": [
  "Band_1"
 ],
 "allowCopy": true,
 "allowAnalysis": true,
 "bandCount": 1,
 "pixelType": "F32",
 "minPixelSize": 0,
 "maxPixelSize": 0,
 "copyrightText": "",
 "serviceDataType": "esriImageServiceDataTypeGeneric",
 "serviceSourceType": "esriImageServiceSourceTypeDataset",
 "minValues": [
  0
 ],
 "maxValues": [
  10536.3017578125
 ],
 "meanValues": [
  37.035209432165054
 ],
 "stdvValues": [
  27.005107769179578
 ],
 "objectIdField": "",
 "fields": [],
 "capabilities": "Image,Metadata,Mensuration",
 "defaultMosaicMethod": "Center",
 "allowedMosaicMethods": "",
 "sortField": "",
 "sortValue": null,
 "sortAscending": true,
 "mosaicOperator": "First",
 "defaultCompressionQuality": 75,
 "defaultResamplingMethod": "Bilinear",
 "maxImageHeight": 4100,
 "maxImageWidth": 15000,
 "allowRasterFunction": true,
 "rasterFunctionInfos": [
  {
   "name": "None",
   "description": "",
   "help": ""
  }
 ],
 "rasterTypeInfos": [
  {
   "name": "Raster Dataset",
   "description": "Supports all ArcGIS Raster Datasets",
   "help": ""
  }
 ],
 "mensurationCapabilities": "Basic",
 "hasHistograms": true,
 "hasColormap": false,
 "hasRasterAttributeTable": false,
 "minScale": 0,
 "maxScale": 0,
 "exportTilesAllowed": false,
 "supportsStatistics": false,
 "supportsAdvancedQueries": false,
 "editFieldsInfo": null,
 "ownershipBasedAccessControlForRasters": null,
 "allowComputeTiePoints": false,
 "useStandardizedQueries": true,
 "advancedQueryCapabilities": {
  "useStandardizedQueries": true,
  "supportsStatistics": false,
  "supportsOrderBy": false,
  "supportsDistinct": false,
  "supportsPagination": false
 },
 "spatialReference": {
  "wkt": "PROJCS[\"NAD83(2011) / Colorado Central (ftUS)\",GEOGCS[\"NAD83(2011)\",DATUM[\"NAD83 (National Spatial Reference System 2011)\",SPHEROID[\"GRS 1980\",6378137.0,298.257222101]],PRIMEM[\"Greenwich\",0.0],UNIT[\"degree\",0.0174532925199433]],PROJECTION[\"Lambert_Conformal_Conic_2SP\"],PARAMETER[\"false_easting\",3000000.0],PARAMETER[\"false_northing\",1000000.0],PARAMETER[\"central_meridian\",-105.5],PARAMETER[\"standard_parallel_1\",38.45],PARAMETER[\"standard_parallel_2\",39.75],PARAMETER[\"latitude_of_origin\",37.833333333333],UNIT[\"US survey foot\",0.3048006096012192]],VERTCS[\"NAVD88 height - US Geoid Model of 2012 B\",VDATUM[\"North American Vertical Datum 1988\"],PARAMETER[\"Vertical_Shift\",0.0],PARAMETER[\"Direction\",1.0],UNIT[\"US survey foot\",0.3048006096012192]]"
 }
}
