{
 "currentVersion": 10.91,
 "serviceDescription": "TOBProjects/StreetlightLumens",
 "name": "TOBProjects/StreetlightLumens",
 "description": "",
 "extent": {
  "xmin": 2839850.0113399485,
  "ymin": 1595328.5682900406,
  "xmax": 2854630.0113399485,
  "ymax": 1621878.5682900406,
  "spatialReference": {
   "wkid": 102654,
   "latestWkid": 2232
  }
 },
 "initialExtent": {
  "xmin": 2839850.0113399485,
  "ymin": 1595328.5682900406,
  "xmax": 2854630.0113399485,
  "ymax": 1621878.5682900406,
  "spatialReference": {
   "wkid": 102654,
   "latestWkid": 2232
  }
 },
 "fullExtent": {
  "xmin": 2839850.0113399485,
  "ymin": 1595328.5682900406,
  "xmax": 2854630.0113399485,
  "ymax": 1621878.5682900406,
  "spatialReference": {
   "wkid": 102654,
   "latestWkid": 2232
  }
 },
 "hasMultidimensions": false,
 "pixelSizeX": 10,
 "pixelSizeY": 10,
 "datasetFormat": "FGDBR",
 "uncompressedSize": 15696360,
 "blockWidth": 128,
 "blockHeight": 128,
 "compressionType": "LZ77",
 "bandNames": [
  "Band_1"
 ],
 "allowCopy": true,
 "allowAnalysis": true,
 "bandCount": 1,
 "pixelType": "S32",
 "minPixelSize": 0,
 "maxPixelSize": 0,
 "copyrightText": "",
 "serviceDataType": "esriImageServiceDataTypeGeneric",
 "serviceSourceType": "esriImageServiceSourceTypeDataset",
 "minValues": [
  3675
 ],
 "maxValues": [
  143025
 ],
 "meanValues": [
  10599.62195651887
 ],
 "stdvValues": [
  11685.206104935056
 ],
 "objectIdField": "",
 "fields": [],
 "capabilities": "Image,Metadata,Mensuration",
 "defaultMosaicMethod": "Center",
 "allowedMosaicMethods": "",
 "sortField": "",
 "sortValue": null,
 "sortAscending": true,
 "mosaicOperator": "First",
 "defaultCompressionQuality": 75,
 "defaultResamplingMethod": "Bilinear",
 "maxImageHeight": 4100,
 "maxImageWidth": 15000,
 "allowRasterFunction": true,
 "rasterFunctionInfos": [
  {
   "name": "None",
   "description": "",
   "help": ""
  }
 ],
 "rasterTypeInfos": [
  {
   "name": "Raster Dataset",
   "description": "Supports all ArcGIS Raster Datasets",
   "help": ""
  }
 ],
 "mensurationCapabilities": "Basic",
 "hasHistograms": true,
 "hasColormap": false,
 "hasRasterAttributeTable": true,
 "minScale": 0,
 "maxScale": 0,
 "exportTilesAllowed": false,
 "supportsStatistics": false,
 "supportsAdvancedQueries": false,
 "editFieldsInfo": null,
 "ownershipBasedAccessControlForRasters": null,
 "allowComputeTiePoints": false,
 "useStandardizedQueries": true,
 "advancedQueryCapabilities": {
  "useStandardizedQueries": true,
  "supportsStatistics": false,
  "supportsOrderBy": false,
  "supportsDistinct": false,
  "supportsPagination": false
 },
 "spatialReference": {
  "wkid": 102654,
  "latestWkid": 2232
 }
}
