View In:
ArcGIS JavaScript
ArcGIS Online Map Viewer
ArcGIS Earth
ArcMap
View Footprint In:
ArcGIS Online Map Viewer
Service Description: TOBProjects/Fiber_Unit_Density
Name: TOBProjects/Fiber_Unit_Density
Description:
Single Fused Map Cache: false
Extent:
XMin: 2741209.6872326364
YMin: 1559538.8448592206
XMax: 2919979.6872326364
YMax: 1762188.8448592206
Spatial Reference: 102654
(2232)
Initial Extent:
XMin: 2741209.6872326364
YMin: 1559538.8448592206
XMax: 2919979.6872326364
YMax: 1762188.8448592206
Spatial Reference: 102654
(2232)
Full Extent:
XMin: 2741209.6872326364
YMin: 1559538.8448592206
XMax: 2919979.6872326364
YMax: 1762188.8448592206
Spatial Reference: 102654
(2232)
Pixel Size X: 10.0
Pixel Size Y: 10.0
Band Count: 1
Pixel Type: F32
RasterFunction Infos: {"rasterFunctionInfos": [{
"name": "None",
"description": "",
"help": ""
}]}
Mensuration Capabilities: Basic
Has Histograms: true
Has Colormap: false
Has Multi Dimensions : false
Rendering Rule:
Min Scale: 0
Max Scale: 0
Copyright Text:
Service Data Type: esriImageServiceDataTypeGeneric
Min Values: 0
Max Values: 431.1832580566406
Mean Values: 0.045639101516178684
Standard Deviation Values: 1.2917668099832278
Object ID Field:
Fields:
None
Default Mosaic Method: Center
Allowed Mosaic Methods:
SortField:
SortValue: null
Mosaic Operator: First
Default Compression Quality: 75
Default Resampling Method: Bilinear
Max Record Count: null
Max Image Height: 4100
Max Image Width: 15000
Max Download Image Count: null
Max Mosaic Image Count: null
Allow Raster Function: true
Allow Copy: true
Allow Analysis: true
Allow Compute TiePoints: false
Supports Statistics: false
Supports Advanced Queries: false
Use StandardizedQueries: true
Raster Type Infos:
Name: Raster Dataset
Description: Supports all ArcGIS Raster Datasets
Help:
Has Raster Attribute Table: false
Edit Fields Info: null
Ownership Based AccessControl For Rasters: null
Child Resources:
Info
Histograms
Statistics
Key Properties
Legend
Raster Function Infos
Supported Operations:
Export Image
Identify
Measure
Compute Histograms
Compute Statistics Histograms
Get Samples
Compute Class Statistics
Query Boundary
Compute Pixel Location
Compute Angles
Validate
Project