View In:
ArcGIS JavaScript
ArcGIS Online Map Viewer
ArcGIS Earth
ArcMap
View Footprint In:
ArcGIS Online Map Viewer
Service Description: TOBProjects/SL_Lumen_existing1
Name: TOBProjects/SL_Lumen_existing1
Description:
Single Fused Map Cache: false
Extent:
XMin: 2839850.0113399485
YMin: 1595328.5682900406
XMax: 2854628.0113399485
YMax: 1621881.5682900406
Spatial Reference: 102654
(2232)
Initial Extent:
XMin: 2839850.0113399485
YMin: 1595328.5682900406
XMax: 2854628.0113399485
YMax: 1621881.5682900406
Spatial Reference: 102654
(2232)
Full Extent:
XMin: 2839850.0113399485
YMin: 1595328.5682900406
XMax: 2854628.0113399485
YMax: 1621881.5682900406
Spatial Reference: 102654
(2232)
Pixel Size X: 1.0
Pixel Size Y: 1.0
Band Count: 1
Pixel Type: S32
RasterFunction Infos: {"rasterFunctionInfos": [{
"name": "None",
"description": "",
"help": ""
}]}
Mensuration Capabilities: Basic
Has Histograms: true
Has Colormap: false
Has Multi Dimensions : false
Rendering Rule:
Min Scale: 0
Max Scale: 0
Copyright Text:
Service Data Type: esriImageServiceDataTypeGeneric
Min Values: 0
Max Values: 122125
Mean Values: 9632.030448393502
Standard Deviation Values: 9137.661870304968
Object ID Field:
Fields:
None
Default Mosaic Method: Center
Allowed Mosaic Methods:
SortField:
SortValue: null
Mosaic Operator: First
Default Compression Quality: 75
Default Resampling Method: Bilinear
Max Record Count: null
Max Image Height: 4100
Max Image Width: 15000
Max Download Image Count: null
Max Mosaic Image Count: null
Allow Raster Function: true
Allow Copy: true
Allow Analysis: true
Allow Compute TiePoints: false
Supports Statistics: false
Supports Advanced Queries: false
Use StandardizedQueries: true
Raster Type Infos:
Name: Raster Dataset
Description: Supports all ArcGIS Raster Datasets
Help:
Has Raster Attribute Table: true
Edit Fields Info: null
Ownership Based AccessControl For Rasters: null
Child Resources:
Info
Raster Attribute Table
Histograms
Statistics
Key Properties
Legend
Raster Function Infos
Supported Operations:
Export Image
Identify
Measure
Compute Histograms
Compute Statistics Histograms
Get Samples
Compute Class Statistics
Query Boundary
Compute Pixel Location
Compute Angles
Validate
Project