View In:
ArcGIS JavaScript
ArcGIS Online Map Viewer
ArcGIS Earth
ArcMap
View Footprint In:
ArcGIS Online Map Viewer
Service Description: TOBProjects/sunrise_slope_percent
Name: TOBProjects/sunrise_slope_percent
Description:
Single Fused Map Cache: false
Extent:
XMin: 2844096.9999999995
YMin: 1595537.898
XMax: 2845334.9999999995
YMax: 1597290.898
Spatial Reference: PROJCS["NAD83(2011) / Colorado Central (ftUS)",GEOGCS["NAD83(2011)",DATUM["NAD83 (National Spatial Reference System 2011)",SPHEROID["GRS 1980",6378137.0,298.257222101]],PRIMEM["Greenwich",0.0],UNIT["degree",0.0174532925199433]],PROJECTION["Lambert_Conformal_Conic_2SP"],PARAMETER["false_easting",3000000.0],PARAMETER["false_northing",1000000.0],PARAMETER["central_meridian",-105.5],PARAMETER["standard_parallel_1",38.45],PARAMETER["standard_parallel_2",39.75],PARAMETER["latitude_of_origin",37.833333333333],UNIT["US survey foot",0.3048006096012192]],VERTCS["NAVD88 height - US Geoid Model of 2012 B",VDATUM["North American Vertical Datum 1988"],PARAMETER["Vertical_Shift",0.0],PARAMETER["Direction",1.0],UNIT["US survey foot",0.3048006096012192]]
Initial Extent:
XMin: 2844096.9999999995
YMin: 1595537.898
XMax: 2845334.9999999995
YMax: 1597290.898
Spatial Reference: PROJCS["NAD83(2011) / Colorado Central (ftUS)",GEOGCS["NAD83(2011)",DATUM["NAD83 (National Spatial Reference System 2011)",SPHEROID["GRS 1980",6378137.0,298.257222101]],PRIMEM["Greenwich",0.0],UNIT["degree",0.0174532925199433]],PROJECTION["Lambert_Conformal_Conic_2SP"],PARAMETER["false_easting",3000000.0],PARAMETER["false_northing",1000000.0],PARAMETER["central_meridian",-105.5],PARAMETER["standard_parallel_1",38.45],PARAMETER["standard_parallel_2",39.75],PARAMETER["latitude_of_origin",37.833333333333],UNIT["US survey foot",0.3048006096012192]],VERTCS["NAVD88 height - US Geoid Model of 2012 B",VDATUM["North American Vertical Datum 1988"],PARAMETER["Vertical_Shift",0.0],PARAMETER["Direction",1.0],UNIT["US survey foot",0.3048006096012192]]
Full Extent:
XMin: 2844096.9999999995
YMin: 1595537.898
XMax: 2845334.9999999995
YMax: 1597290.898
Spatial Reference: PROJCS["NAD83(2011) / Colorado Central (ftUS)",GEOGCS["NAD83(2011)",DATUM["NAD83 (National Spatial Reference System 2011)",SPHEROID["GRS 1980",6378137.0,298.257222101]],PRIMEM["Greenwich",0.0],UNIT["degree",0.0174532925199433]],PROJECTION["Lambert_Conformal_Conic_2SP"],PARAMETER["false_easting",3000000.0],PARAMETER["false_northing",1000000.0],PARAMETER["central_meridian",-105.5],PARAMETER["standard_parallel_1",38.45],PARAMETER["standard_parallel_2",39.75],PARAMETER["latitude_of_origin",37.833333333333],UNIT["US survey foot",0.3048006096012192]],VERTCS["NAVD88 height - US Geoid Model of 2012 B",VDATUM["North American Vertical Datum 1988"],PARAMETER["Vertical_Shift",0.0],PARAMETER["Direction",1.0],UNIT["US survey foot",0.3048006096012192]]
Pixel Size X: 1.0
Pixel Size Y: 1.0
Band Count: 1
Pixel Type: F32
RasterFunction Infos: {"rasterFunctionInfos": [{
"name": "None",
"description": "",
"help": ""
}]}
Mensuration Capabilities: Basic
Has Histograms: true
Has Colormap: false
Has Multi Dimensions : false
Rendering Rule:
Min Scale: 0
Max Scale: 0
Copyright Text:
Service Data Type: esriImageServiceDataTypeGeneric
Min Values: 0.011061598546802998
Max Values: 612.003662109375
Mean Values: 32.72199951380413
Standard Deviation Values: 24.498365963488443
Object ID Field:
Fields:
None
Default Mosaic Method: Center
Allowed Mosaic Methods:
SortField:
SortValue: null
Mosaic Operator: First
Default Compression Quality: 75
Default Resampling Method: Bilinear
Max Record Count: null
Max Image Height: 4100
Max Image Width: 15000
Max Download Image Count: null
Max Mosaic Image Count: null
Allow Raster Function: true
Allow Copy: true
Allow Analysis: true
Allow Compute TiePoints: false
Supports Statistics: false
Supports Advanced Queries: false
Use StandardizedQueries: true
Raster Type Infos:
Name: Raster Dataset
Description: Supports all ArcGIS Raster Datasets
Help:
Has Raster Attribute Table: false
Edit Fields Info: null
Ownership Based AccessControl For Rasters: null
Child Resources:
Info
Histograms
Statistics
Key Properties
Legend
Raster Function Infos
Supported Operations:
Export Image
Identify
Measure
Compute Histograms
Compute Statistics Histograms
Get Samples
Compute Class Statistics
Query Boundary
Compute Pixel Location
Compute Angles
Validate
Project